BEGIN:VCALENDAR
VERSION:2.0
PRODID:-//Laser Prozess&uuml;berwachung - ECPv6.15.20//NONSGML v1.0//EN
CALSCALE:GREGORIAN
METHOD:PUBLISH
X-ORIGINAL-URL:https://4d-photonics.com/en
X-WR-CALDESC:Events for Laser Prozess&uuml;berwachung
REFRESH-INTERVAL;VALUE=DURATION:PT1H
X-Robots-Tag:noindex
X-PUBLISHED-TTL:PT1H
BEGIN:VTIMEZONE
TZID:UTC
BEGIN:STANDARD
TZOFFSETFROM:+0000
TZOFFSETTO:+0000
TZNAME:UTC
DTSTART:20230101T000000
END:STANDARD
END:VTIMEZONE
BEGIN:VTIMEZONE
TZID:Europe/Berlin
BEGIN:DAYLIGHT
TZOFFSETFROM:+0100
TZOFFSETTO:+0200
TZNAME:CEST
DTSTART:20230326T010000
END:DAYLIGHT
BEGIN:STANDARD
TZOFFSETFROM:+0200
TZOFFSETTO:+0100
TZNAME:CET
DTSTART:20231029T010000
END:STANDARD
BEGIN:DAYLIGHT
TZOFFSETFROM:+0100
TZOFFSETTO:+0200
TZNAME:CEST
DTSTART:20240331T010000
END:DAYLIGHT
BEGIN:STANDARD
TZOFFSETFROM:+0200
TZOFFSETTO:+0100
TZNAME:CET
DTSTART:20241027T010000
END:STANDARD
BEGIN:DAYLIGHT
TZOFFSETFROM:+0100
TZOFFSETTO:+0200
TZNAME:CEST
DTSTART:20250330T010000
END:DAYLIGHT
BEGIN:STANDARD
TZOFFSETFROM:+0200
TZOFFSETTO:+0100
TZNAME:CET
DTSTART:20251026T010000
END:STANDARD
END:VTIMEZONE
BEGIN:VEVENT
DTSTART;VALUE=DATE:20240605
DTEND;VALUE=DATE:20240607
DTSTAMP:20260420T131646
CREATED:20240408T061858Z
LAST-MODIFIED:20240513T115613Z
UID:11188-1717545600-1717718399@4d-photonics.com
SUMMARY:ScanWalker® by Bergmann & Steffen
DESCRIPTION:www.bergmann-steffen.de/en/solutions/e‑mobility ———- Lec­ture “Exam­ples of E‑mobility Appli­ca­tions with online Inspection”
URL:https://4d-photonics.com/en/event/scanwalker-by-bergmann-steffen/
END:VEVENT
BEGIN:VEVENT
DTSTART;VALUE=DATE:20240604
DTEND;VALUE=DATE:20240607
DTSTAMP:20260420T131646
CREATED:20240305T085343Z
LAST-MODIFIED:20240513T115432Z
UID:11189-1717459200-1717718399@4d-photonics.com
SUMMARY:Stuttgarter Lasertage
DESCRIPTION:www.ifsw.uni-stuttgart.de/slt/ ———- Lec­ture “Advanced fault clas­si­fi­ca­tion by using a mul­ti-spec­tral sensor”
URL:https://4d-photonics.com/en/event/stuttgarter-lasertage/
LOCATION:Kur­saal Stuttgart-Bad Cannstatt\, Königsplatz 1\, Stuttgart\, Baden-Württemberg\, 70372\, Deutschland
END:VEVENT
BEGIN:VEVENT
DTSTART;VALUE=DATE:20240424
DTEND;VALUE=DATE:20240428
DTSTAMP:20260420T131646
CREATED:20240222T111003Z
LAST-MODIFIED:20240222T111003Z
UID:11190-1713916800-1714262399@4d-photonics.com
SUMMARY:Japan International Welding Show
DESCRIPTION:
URL:https://4d-photonics.com/en/event/japan-international-welding-show/
LOCATION:INTEX OSA­KA\, 1 Chome-5-102 Nankokita\, Suminoe Ward\, Osaka\, 559-0034\, Japan
END:VEVENT
BEGIN:VEVENT
DTSTART;VALUE=DATE:20240417
DTEND;VALUE=DATE:20240420
DTSTAMP:20260420T131646
CREATED:20240222T104540Z
LAST-MODIFIED:20240222T104540Z
UID:11191-1713312000-1713571199@4d-photonics.com
SUMMARY:AKL'24
DESCRIPTION:Lec­ture “Mess­größen und Daten­fu­sion zur opti­mierten Pro­zess­über­wa­chung in jed­er Laseranwendung”
URL:https://4d-photonics.com/en/event/akl24/
LOCATION:Con­fer­ence Cen­ter Aachen\, Monheimsallee 48\, Aachen\, Nordrhein-Westfalen\, 52062\, Deutschland
END:VEVENT
BEGIN:VEVENT
DTSTART;VALUE=DATE:20240401
DTEND;VALUE=DATE:20240406
DTSTAMP:20260420T131646
CREATED:20240222T103814Z
LAST-MODIFIED:20240222T103814Z
UID:11192-1711929600-1712361599@4d-photonics.com
SUMMARY:The 20th Seoul International Manufacturing Technology Show
DESCRIPTION:Par­tic­i­pa­tion via our dis­trib­u­tor ABI­COR BINZEL KOREA
URL:https://4d-photonics.com/en/event/the-20th-seoul-international-manufacturing-technology-show/
LOCATION:KIN­TEX [1\, 2]\, Gyeonggi-do\, Korea
END:VEVENT
BEGIN:VEVENT
DTSTART;VALUE=DATE:20240320
DTEND;VALUE=DATE:20240323
DTSTAMP:20260420T131646
CREATED:20240222T100933Z
LAST-MODIFIED:20240222T100933Z
UID:11193-1710892800-1711151999@4d-photonics.com
SUMMARY:LASER World of PHOTONICS CHINA
DESCRIPTION:Par­tic­i­pa­tion via our dis­trib­u­tor ABI­COR BINZEL
URL:https://4d-photonics.com/en/event/laser-world-of-photonics-china/
LOCATION:Shang­hai New Inter­na­tion­al Expo Center\, 2345 Long Yang Road\, Pudong Area\, Shanghai\, 201204\, China
END:VEVENT
END:VCALENDAR